{"text_format":"1","workbook":"xlsx","n_sheets":4,"sheets":["Spillertøj","Målmand","Prisberegner","Liste"],"not_rendered":{"charts":0,"images":20,"macros":1,"external_links":0,"defined_names":2,"comments":0,"pivot_tables":0},"unopened":[],"bounds":{"document_bytes":16777216,"sheet_cells":100000,"rows_first":2000,"rows_last":500,"rows_between":2000,"halvings":0,"cell_chars":16384,"cell_head_chars":4096},"cells_cut":0,"cells_raw":0,"read":"whole","date_system":"1900"}

{"sheet":"Spillertøj","index":0,"n_rows":76,"n_cols":56,"rows_kept":76,"cut":false,"hidden":false,"merged":[[59,46,59,47],[60,46,60,47],[61,46,61,47],[62,46,62,47],[35,46,35,47],[36,46,36,47],[37,46,37,47],[38,46,38,47],[39,46,39,47],[40,46,40,47],[41,46,41,47],[42,46,42,47],[43,46,43,47],[44,46,44,47],[45,46,45,47],[46,46,46,47],[47,46,47,47],[48,46,48,47],[49,46,49,47],[50,46,50,47],[51,46,51,47],[61,44,61,45],[62,44,62,45],[2,46,2,47],[3,46,3,47],[6,46,6,47],[7,46,7,47],[8,46,8,47],[9,46,9,47],[10,46,10,47],[11,46,11,47],[12,46,12,47],[13,46,13,47],[14,46,14,47],[15,46,15,47],[16,46,16,47],[17,46,17,47],[18,46,18,47],[19,46,19,47],[20,46,20,47],[21,46,21,47],[22,46,22,47],[23,46,23,47],[24,46,24,47],[25,46,25,47],[26,46,26,47],[27,46,27,47],[28,46,28,47],[29,46,29,47],[30,46,30,47],[31,46,31,47],[32,46,32,47],[33,46,33,47],[44,44,44,45],[45,44,45,45],[46,44,46,45],[47,44,47,45],[48,44,48,45],[49,44,49,45],[50,44,50,45],[51,44,51,45],[52,44,52,45],[53,44,53,45],[54,44,54,45],[55,44,55,45],[56,44,56,45],[57,44,57,45],[58,44,58,45],[59,44,59,45],[60,44,60,45],[27,44,27,45],[28,44,28,45],[29,44,29,45],[30,44,30,45],[31,44,31,45],[32,44,32,45],[33,44,33,45],[34,44,34,45],[35,44,35,45],[36,44,36,45],[37,44,37,45],[38,44,38,45],[39,44,39,45],[40,44,40,45],[41,44,41,45],[42,44,42,45],[43,44,43,45],[8,44,8,45],[9,44,9,45],[10,44,10,45],[11,44,11,45],[12,44,12,45],[13,44,13,45],[14,44,14,45],[15,44,15,45],[16,44,16,45],[17,44,17,45],[18,44,18,45],[19,44,19,45],[20,44,20,45],[21,44,21,45],[22,44,22,45],[23,44,23,45],[24,44,24,45],[21,38,21,39],[21,40,21,41],[21,42,21,43],[21,48,21,49],[21,50,21,51],[21,52,21,53],[21,54,21,55],[20,36,20,37],[20,38,20,39],[20,40,20,41],[20,42,20,43],[20,48,20,49],[20,50,20,51],[20,52,20,53],[20,54,20,55],[21,4,21,5],[21,6,21,7],[21,8,21,9],[21,10,21,11],[21,12,21,13],[21,14,21,15],[21,16,21,17],[21,18,21,19],[21,20,21,21],[21,22,21,23],[21,24,21,25],[21,26,21,27],[21,28,21,29],[21,30,21,31],[21,32,21,33],[21,34,21,35],[20,4,20,5],[20,6,20,7],[20,8,20,9],[20,10,20,11],[20,12,20,13],[20,14,20,15],[20,16,20,17],[20,18,20,19],[20,20,20,21],[20,22,20,23],[20,24,20,25],[20,26,20,27],[20,28,20,29],[20,30,20,31],[20,32,20,33],[20,34,20,35],[21,36,21,37],[18,38,18,39],[18,8,18,9],[18,10,18,11],[18,12,18,13],[18,14,18,15],[18,16,18,17],[18,18,18,19],[18,20,18,21],[18,22,18,23],[18,24,18,25],[18,26,18,27],[18,28,18,29],[18,30,18,31],[18,32,18,33],[18,34,18,35],[18,36,18,37],[18,40,18,41],[18,42,18,43],[18,48,18,49],[18,50,18,51],[18,52,18,53],[18,54,18,55],[19,4,19,5],[19,6,19,7],[19,8,19,9],[19,10,19,11],[19,12,19,13],[19,14,19,15],[19,16,19,17],[19,18,19,19],[19,20,19,21],[19,22,19,23],[19,24,19,25],[19,26,19,27],[19,28,19,29],[19,30,19,31],[19,32,19,33],[19,34,19,35],[19,36,19,37],[19,38,19,39],[19,40,19,41],[19,42,19,43],[19,48,19,49],[19,50,19,51],[19,52,19,53],[19,54,19,55],[18,4,18,5],[18,6,18,7],[16,38,16,39],[16,40,16,41],[16,42,16,43],[16,48,16,49],[16,50,16,51],[16,52,16,53],[16,54,16,55],[17,4,17,5],[17,6,17,7],[17,8,17,9],[17,10,17,11],[17,12,17,13],[17,14,17,15],[17,16,17,17],[17,18,17,19],[17,20,17,21],[17,22,17,23],[17,24,17,25],[17,26,17,27],[17,28,17,29],[17,30,17,31],[17,32,17,33],[17,34,17,35],[17,36,17,37],[17,38,17,39],[17,40,17,41],[17,42,17,43],[17,48,17,49],[17,50,17,51],[17,52,17,53],[17,54,17,55],[16,4,16,5],[16,6,16,7],[16,8,16,9],[16,10,16,11],[16,12,16,13],[16,14,16,15],[16,16,16,17],[16,18,16,19],[16,20,16,21],[16,22,16,23],[16,24,16,25],[16,26,16,27],[16,28,16,29],[16,30,16,31],[16,32,16,33],[16,34,16,35],[16,36,16,37],[14,38,14,39],[14,8,14,9],[14,10,14,11],[14,12,14,13],[14,14,14,15],[14,16,14,17],[14,18,14,19],[14,20,14,21],[14,22,14,23],[14,24,14,25],[14,26,14,27],[14,28,14,29],[14,30,14,31],[14,32,14,33],[14,34,14,35],[14,36,14,37],[14,40,14,41],[14,42,14,43],[14,48,14,49],[14,50,14,51],[14,52,14,53],[14,54,14,55],[15,4,15,5],[15,6,15,7],[15,8,15,9],[15,10,15,11],[15,12,15,13],[15,14,15,15],[15,16,15,17],[15,18,15,19],[15,20,15,21],[15,22,15,23],[15,24,15,25],[15,26,15,27],[15,28,15,29],[15,30,15,31],[15,32,15,33],[15,34,15,35],[15,36,15,37],[15,38,15,39],[15,40,15,41],[15,42,15,43],[15,48,15,49],[15,50,15,51],[15,52,15,53],[15,54,15,55],[14,4,14,5],[14,6,14,7],[12,40,12,41],[12,42,12,43],[12,48,12,49],[12,50,12,51],[12,52,12,53],[12,54,12,55],[13,4,13,5],[13,6,13,7],[13,8,13,9],[13,10,13,11],[13,12,13,13],[13,14,13,15],[13,16,13,17],[13,18,13,19],[13,20,13,21],[13,22,13,23],[13,24,13,25],[13,26,13,27],[13,28,13,29],[13,30,13,31],[13,32,13,33],[13,34,13,35],[13,36,13,37],[13,38,13,39],[13,40,13,41],[13,42,13,43],[13,48,13,49],[13,50,13,51],[13,52,13,53],[13,54,13,55],[12,4,12,5],[12,6,12,7],[12,8,12,9],[12,10,12,11],[12,12,12,13],[12,14,12,15],[12,16,12,17],[12,18,12,19],[12,20,12,21],[12,22,12,23],[12,24,12,25],[12,26,12,27],[12,28,12,29],[12,30,12,31],[12,32,12,33],[12,34,12,35],[12,36,12,37],[10,38,10,39],[12,38,12,39],[10,40,10,41],[10,42,10,43],[10,48,10,49],[10,50,10,51],[10,52,10,53],[10,54,10,55],[11,4,11,5],[11,6,11,7],[11,8,11,9],[11,10,11,11],[11,12,11,13],[11,14,11,15],[11,16,11,17],[11,18,11,19],[11,20,11,21],[11,22,11,23],[11,24,11,25],[11,26,11,27],[11,28,11,29],[11,30,11,31],[11,32,11,33],[11,34,11,35],[11,36,11,37],[11,38,11,39],[11,40,11,41],[11,42,11,43],[11,48,11,49],[11,50,11,51],[11,52,11,53],[11,54,11,55],[40,38,40,39],[40,40,40,41],[40,42,40,43],[40,48,40,49],[40,50,40,51],[40,52,40,53],[40,54,40,55],[10,4,10,5],[10,6,10,7],[10,8,10,9],[10,10,10,11],[10,12,10,13],[10,14,10,15],[10,16,10,17],[10,18,10,19],[10,20,10,21],[10,22,10,23],[10,24,10,25],[10,26,10,27],[10,28,10,29],[10,30,10,31],[10,32,10,33],[10,34,10,35],[39,36,39,37],[39,38,39,39],[39,40,39,41],[39,42,39,43],[39,48,39,49],[39,50,39,51],[39,52,39,53],[39,54,39,55],[10,36,10,37],[40,4,40,5],[40,6,40,7],[40,8,40,9],[40,10,40,11],[40,12,40,13],[40,14,40,15],[40,16,40,17],[40,18,40,19],[40,20,40,21],[40,22,40,23],[40,24,40,25],[40,26,40,27],[40,28,40,29],[40,30,40,31],[40,32,40,33],[40,34,40,35],[38,36,38,37],[40,36,40,37],[38,24,38,25],[38,26,38,27],[38,28,38,29],[38,30,38,31],[38,32,38,33],[38,34,38,35],[38,40,38,41],[38,42,38,43],[38,48,38,49],[38,50,38,51],[38,52,38,53],[38,54,38,55],[39,4,39,5],[39,6,39,7],[39,8,39,9],[39,10,39,11],[39,12,39,13],[39,14,39,15],[39,16,39,17],[39,18,39,19],[39,20,39,21],[39,22,39,23],[39,24,39,25],[39,26,39,27],[39,28,39,29],[39,30,39,31],[39,32,39,33],[39,34,39,35],[38,4,38,5],[38,6,38,7],[38,8,38,9],[38,10,38,11],[38,12,38,13],[38,14,38,15],[38,16,38,17],[38,18,38,19],[38,20,38,21],[38,22,38,23],[38,38,38,39],[36,38,36,39],[36,40,36,41],[36,42,36,43],[36,48,36,49],[36,50,36,51],[36,52,36,53],[36,54,36,55],[37,4,37,5],[37,6,37,7],[37,8,37,9],[37,10,37,11],[37,12,37,13],[37,14,37,15],[37,16,37,17],[37,18,37,19],[37,20,37,21],[37,22,37,23],[37,24,37,25],[37,26,37,27],[37,28,37,29],[37,30,37,31],[37,32,37,33],[37,34,37,35],[37,36,37,37],[37,38,37,39],[37,40,37,41],[37,42,37,43],[37,48,37,49],[37,50,37,51],[37,52,37,53],[37,54,37,55],[36,4,36,5],[36,6,36,7],[36,8,36,9],[36,10,36,11],[36,12,36,13],[36,14,36,15],[36,16,36,17],[36,18,36,19],[36,20,36,21],[36,22,36,23],[36,24,36,25],[36,26,36,27],[36,28,36,29],[36,30,36,31],[36,32,36,33],[36,34,36,35],[36,36,36,37],[34,40,34,41],[34,42,34,43],[34,48,34,49],[34,50,34,51],[34,52,34,53],[34,54,34,55],[35,4,35,5],[35,6,35,7],[35,8,35,9],[35,10,35,11],[35,12,35,13],[35,14,35,15],[35,16,35,17],[35,18,35,19],[35,20,35,21],[35,22,35,23],[35,24,35,25],[35,26,35,27],[35,28,35,29],[35,30,35,31],[35,32,35,33],[35,34,35,35],[35,36,35,37],[35,38,35,39],[35,40,35,41],[35,42,35,43],[35,48,35,49],[35,50,35,51],[35,52,35,53],[35,54,35,55],[34,4,34,5],[34,46,34,47],[34,36,34,37],[32,38,32,39],[32,8,32,9],[32,10,32,11],[32,12,32,13],[32,14,32,15],[32,16,32,17],[32,18,32,19],[32,20,32,21],[32,22,32,23],[32,24,32,25],[32,26,32,27],[32,28,32,29],[32,30,32,31],[32,32,32,33],[32,34,32,35],[32,36,32,37],[34,38,34,39],[32,4,32,5],[32,6,32,7],[34,6,34,7],[34,8,34,9],[34,10,34,11],[34,12,34,13],[34,14,34,15],[34,16,34,17],[34,18,34,19],[34,20,34,21],[34,22,34,23],[34,24,34,25],[34,26,34,27],[34,28,34,29],[34,30,34,31],[34,32,34,33],[34,34,34,35],[30,14,30,15],[30,16,30,17],[32,40,32,41],[32,42,32,43],[32,48,32,49],[32,50,32,51],[32,52,32,53],[32,54,32,55],[33,4,33,5],[33,6,33,7],[33,8,33,9],[33,10,33,11],[33,12,33,13],[33,14,33,15],[33,16,33,17],[33,18,33,19],[33,20,33,21],[33,22,33,23],[33,24,33,25],[33,26,33,27],[33,28,33,29],[33,30,33,31],[33,32,33,33],[33,34,33,35],[33,36,33,37],[33,38,33,39],[33,40,33,41],[33,42,33,43],[33,48,33,49],[33,50,33,51],[33,52,33,53],[33,54,33,55],[29,42,29,43],[29,48,29,49],[30,54,30,55],[31,4,31,5],[31,6,31,7],[31,8,31,9],[31,10,31,11],[31,12,31,13],[31,14,31,15],[31,16,31,17],[31,18,31,19],[31,20,31,21],[31,22,31,23],[31,24,31,25],[31,26,31,27],[31,28,31,29],[31,30,31,31],[31,32,31,33],[31,34,31,35],[31,36,31,37],[31,38,31,39],[31,40,31,41],[31,42,31,43],[31,48,31,49],[31,50,31,51],[31,52,31,53],[31,54,31,55],[30,4,30,5],[30,6,30,7],[30,8,30,9],[30,10,30,11],[30,12,30,13],[28,34,28,35],[28,36,28,37],[30,18,30,19],[30,20,30,21],[30,22,30,23],[30,24,30,25],[30,26,30,27],[30,28,30,29],[30,30,30,31],[30,32,30,33],[30,34,30,35],[30,36,30,37],[28,54,28,55],[29,4,29,5],[29,6,29,7],[29,8,29,9],[29,10,29,11],[29,12,29,13],[29,14,29,15],[29,16,29,17],[29,18,29,19],[29,20,29,21],[29,22,29,23],[29,24,29,25],[29,26,29,27],[29,28,29,29],[29,30,29,31],[29,32,29,33],[29,34,29,35],[29,36,29,37],[29,38,29,39],[29,40,29,41],[27,38,27,39],[27,40,27,41],[27,42,27,43],[27,48,27,49],[27,50,27,51],[27,52,27,53],[27,54,27,55],[26,4,26,5],[26,6,26,7],[26,8,26,9],[26,10,26,11],[26,12,26,13],[26,14,26,15],[26,16,26,17],[29,50,29,51],[29,52,29,53],[29,54,29,55],[28,4,28,5],[28,6,28,7],[28,8,28,9],[28,10,28,11],[28,12,28,13],[28,14,28,15],[28,16,28,17],[28,18,28,19],[28,20,28,21],[28,22,28,23],[28,24,28,25],[28,26,28,27],[28,28,28,29],[28,30,28,31],[28,32,28,33],[27,4,27,5],[27,6,27,7],[27,8,27,9],[27,10,27,11],[27,12,27,13],[27,14,27,15],[27,16,27,17],[27,18,27,19],[27,20,27,21],[27,22,27,23],[27,24,27,25],[27,26,27,27],[27,28,27,29],[27,30,27,31],[27,32,27,33],[27,34,27,35],[27,36,27,37],[26,28,26,29],[26,30,26,31],[26,32,26,33],[26,34,26,35],[26,36,26,37],[24,54,24,55],[25,4,25,5],[25,6,25,7],[25,8,25,9],[25,10,25,11],[25,12,25,13],[25,14,25,15],[25,16,25,17],[25,18,25,19],[25,20,25,21],[25,22,25,23],[25,24,25,25],[25,26,25,27],[25,28,25,29],[25,30,25,31],[25,32,25,33],[25,34,25,35],[25,36,25,37],[25,38,25,39],[25,40,25,41],[25,42,25,43],[25,48,25,49],[26,54,26,55],[25,44,25,45],[26,44,26,45],[25,50,25,51],[25,52,25,53],[25,54,25,55],[24,8,24,9],[24,10,24,11],[24,12,24,13],[24,14,24,15],[24,16,24,17],[24,18,24,19],[24,20,24,21],[24,22,24,23],[24,24,24,25],[24,26,24,27],[24,28,24,29],[24,30,24,31],[24,32,24,33],[24,34,24,35],[24,36,24,37],[24,38,24,39],[24,40,24,41],[22,54,22,55],[23,4,23,5],[23,6,23,7],[23,8,23,9],[23,10,23,11],[23,12,23,13],[23,14,23,15],[23,16,23,17],[23,18,23,19],[23,20,23,21],[23,22,23,23],[23,24,23,25],[23,26,23,27],[23,28,23,29],[23,30,23,31],[23,32,23,33],[23,34,23,35],[23,36,23,37],[23,38,23,39],[23,40,23,41],[23,42,23,43],[23,48,23,49],[23,50,23,51],[23,52,23,53],[23,54,23,55],[9,54,9,55],[22,4,22,5],[22,6,22,7],[22,8,22,9],[22,10,22,11],[22,12,22,13],[22,14,22,15],[22,16,22,17],[22,18,22,19],[22,20,22,21],[22,22,22,23],[22,24,22,25],[22,26,22,27],[22,28,22,29],[22,30,22,31],[22,32,22,33],[22,34,22,35],[9,6,9,7],[9,8,9,9],[9,10,9,11],[9,12,9,13],[9,14,9,15],[9,16,9,17],[9,18,9,19],[9,20,9,21],[22,36,22,37],[22,38,22,39],[22,40,22,41],[22,42,22,43],[22,48,22,49],[22,50,22,51],[22,52,22,53],[62,52,62,53],[61,50,61,51],[61,42,61,43],[45,48,45,49],[45,50,45,51],[48,48,48,49],[48,50,48,51],[49,48,49,49],[49,50,49,51],[50,48,50,49],[50,50,50,51],[51,48,51,49],[51,50,51,51],[9,36,9,37],[9,38,9,39],[9,40,9,41],[9,42,9,43],[9,48,9,49],[9,50,9,51],[9,52,9,53],[24,42,24,43],[24,48,24,49],[24,50,24,51],[24,52,24,53],[26,38,26,39],[26,40,26,41],[26,42,26,43],[26,48,26,49],[26,50,26,51],[26,52,26,53],[28,38,28,39],[28,40,28,41],[54,54,54,55],[55,54,55,55],[56,54,56,55],[57,54,57,55],[58,54,58,55],[59,54,59,55],[60,54,60,55],[61,54,61,55],[62,54,62,55],[45,54,45,55],[46,54,46,55],[47,54,47,55],[48,54,48,55],[49,54,49,55],[50,54,50,55],[51,54,51,55],[52,54,52,55],[53,54,53,55],[2,54,2,55],[3,54,3,55],[6,54,6,55],[7,54,7,55],[8,54,8,55],[41,54,41,55],[42,54,42,55],[43,54,43,55],[44,54,44,55],[54,18,54,19],[55,18,55,19],[56,18,56,19],[57,18,57,19],[58,18,58,19],[59,18,59,19],[60,18,60,19],[61,18,61,19],[53,52,53,53],[54,52,54,53],[55,52,55,53],[56,52,56,53],[57,52,57,53],[58,52,58,53],[59,52,59,53],[60,52,60,53],[61,52,61,53],[58,50,58,51],[59,48,59,49],[59,50,59,51],[60,48,60,49],[60,50,60,51],[61,48,61,49],[62,18,62,19],[45,18,45,19],[46,18,46,19],[47,18,47,19],[48,18,48,19],[49,18,49,19],[50,18,50,19],[51,18,51,19],[52,18,52,19],[53,18,53,19],[2,18,2,19],[3,18,3,19],[6,18,6,19],[7,18,7,19],[8,18,8,19],[41,18,41,19],[42,18,42,19],[43,18,43,19],[44,18,44,19],[26,18,26,19],[2,52,2,53],[3,52,3,53],[6,52,6,53],[7,52,7,53],[8,52,8,53],[41,52,41,53],[42,52,42,53],[43,52,43,53],[44,52,44,53],[45,52,45,53],[46,52,46,53],[47,52,47,53],[48,52,48,53],[49,52,49,53],[50,52,50,53],[51,52,51,53],[52,52,52,53],[28,52,28,53],[30,52,30,53],[52,48,52,49],[52,50,52,51],[53,48,53,49],[53,50,53,51],[54,48,54,49],[54,50,54,51],[55,48,55,49],[55,50,55,51],[56,48,56,49],[56,50,56,51],[57,48,57,49],[57,50,57,51],[58,48,58,49],[54,40,54,41],[55,40,55,41],[56,40,56,41],[57,40,57,41],[58,40,58,41],[52,46,52,47],[53,46,53,47],[54,46,54,47],[55,46,55,47],[56,46,56,47],[57,46,57,47],[58,46,58,47],[59,40,59,41],[60,40,60,41],[61,40,61,41],[45,42,45,43],[46,42,46,43],[47,42,47,43],[48,42,48,43],[49,42,49,43],[50,42,50,43],[51,42,51,43],[52,42,52,43],[53,42,53,43],[54,42,54,43],[55,42,55,43],[56,42,56,43],[57,42,57,43],[58,42,58,43],[59,42,59,43],[60,42,60,43],[45,40,45,41],[46,40,46,41],[47,40,47,41],[48,40,48,41]],"merged_total":1538,"flags":["merged_cut"]}
[]
[]
[null,"Skriv det navn som skal trykkes på trøjen ","Skriv  nummer",null,"HJEMMEBANE - MED NAVN",null,"HJEMMEBANE - UDEN NAVN",null,"HJEMMEBANE - MED NAVN",null,"HJEMMEBANE - UDEN NAVN",null,"SHORTS VOKSEN",null,"SHORTS BØRN",null," STRØMPER",null,"SLEEVE",null,"UDEBANE - MED NAVN",null,"UDEBANE - UDEN NAVN",null,"UDEBANE - MED NAVN",null,"UDEBANE - UDEN NAVN",null,"MÅLMAND - MED NAVN",null,"T-SHIRT - UDEN NAVN",null,"T-SHIRT - MED NAVN",null,"T-SHIRT - UDEN NAVN",null,"MÅLMAND VOKSEN - MED NAVN",null,"MÅLMAND VOKSEN - UDEN NAVN",null,"MÅLMAND BØRN - MED NAVN",null,"MÅLMAND BØRN - UDEN NAVN",null,"MÅLMAND VOKSEN BASELAYER",null,"MÅLMAND BØRN - BASELAYER",null,"MÅLMANDSHORTS",null,"MÅLMANDSHORTS",null," STRØMPER",null," STRØMPER"]
[null,null,null,"Vælg farve","Gul/Blå - 17",null,"Gul/Blå - 17",null,"Gul/Blå - 17",null,"Gul/Blå - 17",null,"Blå - 02",null,"Blå - 02",null,"Blå - 02",null,"Blå - 02",null,"Blå/Gul - 16",null,"Blå/Gul - 16",null,"Blå/Gul - 16",null,"Blå/Gul - 16",null,"Grøn - 05",null,"Grøn - 05",null,"Grøn - 05",null,"Grøn - 05",null,"Grøn 20",null,"Grøn 20",null,"Grøn 20",null,"Grøn 20",null,"Grøn - 05",null,"Grøn - 05",null,"Grøn - 05",null,"Grøn - 05",null,"Grøn - 05",null,"Grøn - 05"]
[null,null,null,"Voksen",705747,285,705747,225,null,null,null,null,705752,185,null,null,703441,67.5,706028,60,705747,285,705747,225,null,null,null,null,659721,250,659721,200,null,null,null,null,706519,370,706519,310,null,null,null,null,658777,190,null,null,705752,185,null,null,703441,67.5,706028,60]
[null,null,null,"Børn",null,null,null,null,705748,245,705748,185,null,null,705753,160,703441,67.5,706028,60,null,null,null,null,705748,245,705748,185,null,null,null,null,659723,235,659723,185,null,null,null,null,706521,335,706521,275,null,null,659041,150,null,null,705753,160,703441,67.5,706028,60]
[null,null,null,null,"Voksen - Goal Matchday ",null,"Voksen - Goal Matchday ",null,"Børn - Goal Matchday ",null,"Børn - Goal Matchday ",null,"Voksen - Goal",null,"Børn - Goal",null,"teamLiga",null,"teamLiga",null,"Voksen - Goal Matchday ",null,"Voksen - Goal Matchday ",null,"Børn - Goal Matchday ",null,"Børn - Goal Matchday ",null,"Voksen - Team Liga",null,"Voksen - Team Liga",null,"Børn - Team Liga",null,"Børn - Team Liga",null,"VOKSEN",null,"VOKSEN",null,"BARN",null,"BARN",null,"VOKSEN",null,"BARN",null,"VOKSEN",null,"BARN",null,"teamLiga",null,"teamLiga"]
[null,"NAVNETRYK - 4 CM","NUMMER",null,"(XS,S,M,L,XL,XL,XXL)",null,"(XS,S,M,L,XL,XL,XXL)",null,"(116,128,140,152,164)",null,"(116,128,140,152,164)",null,"(XS,S,M,L,XL,XXL)",null,"(116,128,140,152,164)",null,"(27-30,31-34,35-38, 39-42,43-46,47-49)",null,"(27-30,31-34,35-38, 39-42,43-46,47-49)",null,"(XS,S,M,L,XL,XL,XXL)",null,"(XS,S,M,L,XL,XL,XXL)",null,"(116,128,140,152,164)",null,"(116,128,140,152,164)",null,"(XS,S,M,L,XL,XL,XXL)",null,"(XS,S,M,L,XL,XL,XXL)",null,"(116,128,140,152,164)",null,"(116,128,140,152,164)",null,"(XS,S,M,L,XL,XL,XXL)",null,"(XS,S,M,L,XL,XL,XXL)",null,"(116,128,140,152,164)",null,"(116,128,140,152,164)",null,"(XS,S,M,L,XL,XL,XXL)",null,"(116,128,140,152,164)",null,"(XS,S,M,L,XL,XL,XXL)",null,"(116,128,140,152,164)",null,"(27-30,31-34,35-38, 39-42,43-46,47-49)",null,"(27-30,31-34,35-38, 39-42,43-46,47-49)"]
[]
[]
[]
[]
[]
[]
[]
[]
[]
[]
[]
[]
[]
[]
[]
[]
[]
[]
[]
[]
[]
[]
[]
[]
[]
[]
[]
[]
[]
[]
[]
[]
[]
[]
[]
[]
[]
[]
[]
[]
[]
[]
[]
[]
[]
[]
[]
[]
[]
[]
[]
[]
[]
[]
[null,{"$f":"COUNTA(B9:B62)","v":0},null,null,{"$f":"COUNTA(E9:F62)","v":0},null,{"$f":"COUNTA(G9:H62)","v":0},null,{"$f":"COUNTA(I9:J62)","v":0},null,{"$f":"COUNTA(K9:L62)","v":0},null,{"$f":"COUNTA(M9:N62)","v":0},null,{"$f":"COUNTA(O9:P62)","v":0},null,{"$f":"COUNTA(Q9:R62)","v":0},null,{"$f":"COUNTA(S9:T62)","v":0},null,{"$f":"COUNTA(U9:V62)","v":0},null,{"$f":"COUNTA(W9:X62)","v":0},null,{"$f":"COUNTA(Y9:Z62)","v":0},null,{"$f":"COUNTA(AA9:AB62)","v":0},null,{"$f":"COUNTA(AC9:AD62)","v":0},null,{"$f":"COUNTA(AE9:AF62)","v":0},null,{"$f":"COUNTA(AG9:AH62)","v":0},null,{"$f":"COUNTA(AI9:AJ62)","v":0},null,{"$f":"COUNTA(AK9:AL45)","v":0},null,{"$f":"COUNTA(AM9:AN45)","v":0},null,{"$f":"COUNTA(AO9:AP45)","v":0},null,{"$f":"COUNTA(AQ9:AR45)","v":0},null,{"$f":"COUNTA(AS9:AT45)","v":0},null,{"$f":"COUNTA(AU9:AV45)","v":0},null,{"$f":"COUNTA(AW9:AX45)","v":0},null,{"$f":"COUNTA(AY9:AZ45)","v":0},null,{"$f":"COUNTA(BA9:BB62)","v":0},null,{"$f":"COUNTA(BC9:BD62)","v":0}]
[]
[]
[null,"Størrelses-",null,null,null,null,null,null,116,{"$f":"COUNTIF(I$9:J$62,I66)","v":0},116,{"$f":"COUNTIF(K$9:L$62,K66)","v":0},null,null,116,{"$f":"COUNTIF(O$9:P$62,O66)","v":0},"27-30",{"$f":"COUNTIF(Q$9:R$62,Q66)","v":0},"27-30",{"$f":"COUNTIF(S$9:T$62,S66)","v":0},null,null,null,null,116,{"$f":"COUNTIF(Y$9:Z$62,Y66)","v":0},116,{"$f":"COUNTIF(AA$9:AB$62,AA66)","v":0},null,null,null,null,116,{"$f":"COUNTIF(AG$9:AH$62,AG66)","v":0},116,{"$f":"COUNTIF(AI$9:AJ$62,AI66)","v":0},null,null,null,null,116,{"$f":"COUNTIF(AO$9:AP$45,AO66)","v":0},116,{"$f":"COUNTIF(AQ$9:AR$45,AQ66)","v":0},null,null,116,{"$f":"COUNTIF(AU$9:AV$45,AU66)","v":0},null,null,116,{"$f":"COUNTIF(AY$9:AZ$45,AY66)","v":0},"27-30",{"$f":"COUNTIF(BA$9:BB$62,BA66)","v":0},"27-30",{"$f":"COUNTIF(BC$9:BD$62,BC66)","v":0}]
[null,"fordeling",null,null,null,null,null,null,128,{"$f":"COUNTIF(I$9:J$62,I67)","v":0},128,{"$f":"COUNTIF(K$9:L$62,K67)","v":0},null,null,128,{"$f":"COUNTIF(O$9:P$62,O67)","v":0},"31-34",0,"31-34",0,null,null,null,null,128,{"$f":"COUNTIF(Y$9:Z$62,Y67)","v":0},128,{"$f":"COUNTIF(AA$9:AB$62,AA67)","v":0},null,null,null,null,128,{"$f":"COUNTIF(AG$9:AH$62,AG67)","v":0},128,{"$f":"COUNTIF(AI$9:AJ$62,AI67)","v":0},null,null,null,null,128,{"$f":"COUNTIF(AO$9:AP$45,AO67)","v":0},128,{"$f":"COUNTIF(AQ$9:AR$45,AQ67)","v":0},null,null,128,{"$f":"COUNTIF(AU$9:AV$45,AU67)","v":0},null,null,128,{"$f":"COUNTIF(AY$9:AZ$45,AY67)","v":0},"31-34",0,"31-34",0]
[null,null,null,null,null,null,null,null,140,{"$f":"COUNTIF(I$9:J$62,I68)","v":0},140,{"$f":"COUNTIF(K$9:L$62,K68)","v":0},null,null,140,{"$f":"COUNTIF(O$9:P$62,O68)","v":0},"35-38",0,"35-38",0,null,null,null,null,140,{"$f":"COUNTIF(Y$9:Z$62,Y68)","v":0},140,{"$f":"COUNTIF(AA$9:AB$62,AA68)","v":0},null,null,null,null,140,{"$f":"COUNTIF(AG$9:AH$62,AG68)","v":0},140,{"$f":"COUNTIF(AI$9:AJ$62,AI68)","v":0},null,null,null,null,140,{"$f":"COUNTIF(AO$9:AP$45,AO68)","v":0},140,{"$f":"COUNTIF(AQ$9:AR$45,AQ68)","v":0},null,null,140,{"$f":"COUNTIF(AU$9:AV$45,AU68)","v":0},null,null,140,{"$f":"COUNTIF(AY$9:AZ$45,AY68)","v":0},"35-38",0,"35-38",0]
[null,null,null,null,null,null,null,null,152,{"$f":"COUNTIF(I$9:J$62,I69)","v":0},152,{"$f":"COUNTIF(K$9:L$62,K69)","v":0},null,null,152,{"$f":"COUNTIF(O$9:P$62,O69)","v":0},"39-42",0,"39-42",0,null,null,null,null,152,{"$f":"COUNTIF(Y$9:Z$62,Y69)","v":0},152,{"$f":"COUNTIF(AA$9:AB$62,AA69)","v":0},null,null,null,null,152,{"$f":"COUNTIF(AG$9:AH$62,AG69)","v":0},152,{"$f":"COUNTIF(AI$9:AJ$62,AI69)","v":0},null,null,null,null,152,{"$f":"COUNTIF(AO$9:AP$45,AO69)","v":0},152,{"$f":"COUNTIF(AQ$9:AR$45,AQ69)","v":0},null,null,152,{"$f":"COUNTIF(AU$9:AV$45,AU69)","v":0},null,null,152,{"$f":"COUNTIF(AY$9:AZ$45,AY69)","v":0},"39-42",0,"39-42",0]
[null,null,null,null,null,null,null,null,164,{"$f":"COUNTIF(I$9:J$62,I70)","v":0},164,{"$f":"COUNTIF(K$9:L$62,K70)","v":0},null,null,164,{"$f":"COUNTIF(O$9:P$62,O70)","v":0},"43-46",0,"43-46",0,null,null,null,null,164,{"$f":"COUNTIF(Y$9:Z$62,Y70)","v":0},164,{"$f":"COUNTIF(AA$9:AB$62,AA70)","v":0},null,null,null,null,164,{"$f":"COUNTIF(AG$9:AH$62,AG70)","v":0},164,{"$f":"COUNTIF(AI$9:AJ$62,AI70)","v":0},null,null,null,null,164,{"$f":"COUNTIF(AO$9:AP$45,AO70)","v":0},164,{"$f":"COUNTIF(AQ$9:AR$45,AQ70)","v":0},null,null,164,{"$f":"COUNTIF(AU$9:AV$45,AU70)","v":0},null,null,164,{"$f":"COUNTIF(AY$9:AZ$45,AY70)","v":0},"43-46",0,"43-46",0]
[null,null,null,null,"XS",{"$f":"COUNTIF(E$9:F$62,E71)","v":0},"XS",{"$f":"COUNTIF(G$9:H$62,G71)","v":0},null,null,null,null,"XS",{"$f":"COUNTIF(M$9:N$62,M71)","v":0},null,null,"47-49",0,"47-49",0,"XS",{"$f":"COUNTIF(U$9:V$62,U71)","v":0},"XS",{"$f":"COUNTIF(W$9:X$62,W71)","v":0},null,null,null,null,"XS",{"$f":"COUNTIF(AC$9:AD$62,AC71)","v":0},"XS",{"$f":"COUNTIF(AE$9:AF$62,AE71)","v":0},null,null,null,null,"XS",{"$f":"COUNTIF(AK$9:AL$45,AK71)","v":0},"XS",{"$f":"COUNTIF(AM$9:AN$45,AM71)","v":0},null,null,null,null,"XS",{"$f":"COUNTIF(AS$9:AT$45,AS71)","v":0},null,null,"XS",{"$f":"COUNTIF(AW$9:AX$45,AW71)","v":0},null,null,"47-49",0,"47-49",0]
[null,null,null,null,"S",0,"S",0,null,null,null,null,"S",0,null,null,null,null,null,null,"S",0,"S",0,null,null,null,null,"S",0,"S",0,null,null,null,null,"S",0,"S",0,null,null,null,null,"S",0,null,null,"S",0]
[null,null,null,null,"M",0,"M",0,null,null,null,null,"M",0,null,null,null,null,null,null,"M",0,"M",0,null,null,null,null,"M",0,"M",0,null,null,null,null,"M",0,"M",0,null,null,null,null,"M",0,null,null,"M",0]
[null,null,null,null,"L",0,"L",0,null,null,null,null,"L",0,null,null,null,null,null,null,"L",0,"L",0,null,null,null,null,"L",0,"L",0,null,null,null,null,"L",0,"L",0,null,null,null,null,"L",0,null,null,"L",0]
[null,null,null,null,"XL",0,"XL",0,null,null,null,null,"XL",0,null,null,null,null,null,null,"XL",0,"XL",0,null,null,null,null,"XL",0,"XL",0,null,null,null,null,"XL",0,"XL",0,null,null,null,null,"XL",0,null,null,"XL",0]
[null,null,null,null,"XXL",0,"XXL",0,null,null,null,null,"XXL",0,null,null,null,null,null,null,"XXL",0,"XXL",0,null,null,null,null,"XXL",0,"XXL",0,null,null,null,null,"XXL",0,"XXL",0,null,null,null,null,"XXL",0,null,null,"XXL",0]

{"sheet":"Målmand","index":1,"n_rows":27,"n_cols":25,"rows_kept":27,"cut":false,"hidden":true,"merged":[[13,19,13,20],[13,21,13,22],[13,23,13,24],[15,19,15,20],[15,21,15,22],[15,23,15,24],[12,23,12,24],[14,19,14,20],[14,21,14,22],[14,23,14,24],[9,23,9,24],[10,19,10,20],[10,21,10,22],[10,23,10,24],[11,19,11,20],[11,21,11,22],[11,23,11,24],[7,19,7,20],[7,21,7,22],[7,23,7,24],[8,19,8,20],[8,21,8,22],[8,23,8,24],[13,13,13,14],[13,15,13,16],[13,17,13,18],[2,19,2,20],[2,21,2,22],[2,23,2,24],[3,19,3,20],[3,21,3,22],[3,23,3,24],[6,19,6,20],[2,13,2,14],[2,15,2,16],[2,17,2,18],[3,13,3,14],[3,15,3,16],[3,17,3,18],[6,13,6,14],[6,15,6,16],[6,17,6,18],[11,17,11,18],[12,17,12,18],[12,19,12,20],[12,21,12,22],[11,13,11,14],[11,15,11,16],[12,13,12,14],[12,15,12,16],[9,17,9,18],[10,17,10,18],[9,19,9,20],[9,21,9,22],[9,13,9,14],[9,15,9,16],[10,13,10,14],[10,15,10,16],[7,15,7,16],[7,17,7,18],[8,15,8,16],[8,17,8,18],[7,13,7,14],[8,13,8,14],[6,21,6,22],[6,23,6,24],[13,3,13,4],[13,5,13,6],[13,7,13,8],[13,9,13,10],[13,11,13,12],[12,3,12,4],[12,5,12,6],[12,7,12,8],[12,9,12,10],[12,11,12,12],[10,3,10,4],[10,5,10,6],[10,7,10,8],[10,9,10,10],[10,11,10,12],[11,3,11,4],[11,5,11,6],[11,7,11,8],[11,9,11,10],[11,11,11,12],[8,3,8,4],[8,5,8,6],[8,7,8,8],[8,9,8,10],[8,11,8,12],[9,3,9,4],[9,5,9,6],[9,7,9,8],[9,9,9,10],[9,11,9,12],[6,9,6,10],[6,11,6,12],[7,3,7,4],[7,5,7,6],[7,7,7,8],[7,9,7,10],[7,11,7,12],[2,7,2,8],[2,9,2,10],[2,11,2,12],[3,3,3,4],[3,5,3,6],[3,7,3,8],[3,9,3,10],[3,11,3,12],[0,0,0,2],[1,0,1,2],[2,0,6,0],[2,1,6,1],[2,3,2,4],[2,5,2,6],[6,3,6,4],[6,5,6,6],[6,7,6,8]]}
[]
[]
["Skriv det navn som skal trykkes på trøjen ","Skriv  nummer",null,"MÅLMAND VOKSEN - MED NAVN",null,"MÅLMAND VOKSEN - UDEN NAVN",null,"MÅLMAND BØRN - MED NAVN",null,"MÅLMAND BØRN - UDEN NAVN",null,"MÅLMAND VOKSEN - MED NAVN",null,"MÅLMAND VOKSEN - UDEN NAVN",null,"MÅLMAND BØRN - MED NAVN",null,"MÅLMAND BØRN - UDEN NAVN",null,"MÅLMANDSSHORTS VOKSEN",null,"MÅLMANDSSHORTS BØRN",null," STRØMPER"]
[null,null,"Vælg farve","Grøn 05",null,"Grøn 05",null,"Grøn 05",null,"Grøn 05",null,"Grøn 20",null,"Grøn 20",null,"Grøn 20",null,"Grøn 20",null,"Grøn - 05",null,"Grøn - 05",null,"Grøn - 05"]
[null,null,"Voksen",706280,320,706280,260,null,null,null,null,706519,370,706519,310,null,null,null,null,705752,185,705753,165,703441,67.5]
[null,null,"Børn",null,null,null,null,706282,280,706282,220,null,null,null,null,706282,335,706282,275,null,null,null,null,703441,67.5]
[null,null,null,"VOKSEN",null,"VOKSEN",null,"BARN",null,"BARN",null,"VOKSEN",null,"VOKSEN",null,"BARN",null,"BARN",null,"Goal",null,"Goal",null,"teamLiga"]
["NAVNETRYK - 4 CM","NUMMER",null,"(XS,S,M,L,XL,XL,XXL)",null,"(XS,S,M,L,XL,XL,XXL)",null,"(116,128,140,152,164)",null,"(116,128,140,152,164)",null,"(XS,S,M,L,XL,XL,XXL)",null,"(XS,S,M,L,XL,XL,XXL)",null,"(116,128,140,152,164)",null,"(116,128,140,152,164)",null,"(116,128,140,152,164, XS,S,M,L,XL,XXL)",null,"(116,128,140,152,164, XS,S,M,L,XL,XXL)",null,"(27-30,31-34,35-38, 39-42,43-46,47-49)"]
[null,null,"Målmand 1"]
[null,null,"Målmand 2"]
[null,null,"Målmand 3"]
[null,null,"Målmand 4"]
[null,null,"Målmand 5"]
[{"$f":"COUNTA(A9:A13)","v":0},null,null,{"$f":"COUNTA(D9:E13)","v":0},null,{"$f":"COUNTA(F9:G13)","v":0},null,{"$f":"COUNTA(H9:I13)","v":0},null,{"$f":"COUNTA(J9:K13)","v":0},null,{"$f":"COUNTA(L9:M13)","v":0},null,{"$f":"COUNTA(N9:O13)","v":0},null,{"$f":"COUNTA(P9:Q13)","v":0},null,{"$f":"COUNTA(R9:S13)","v":0},null,{"$f":"COUNTA(T9:U13)","v":0},null,{"$f":"COUNTA(V9:W13)","v":0},null,{"$f":"COUNTA(X9:Y13)","v":0}]
[]
[]
["Størrelses-",null,null,null,null,null,null,116,{"$f":"COUNTIF(H$9:I$13,H17)","v":0},116,{"$f":"COUNTIF(J$9:K$13,J17)","v":0},null,null,null,{"$f":"COUNTIF(N$9:O$13,N17)","v":0},116,{"$f":"COUNTIF(P$9:Q$13,P17)","v":0},116,{"$f":"COUNTIF(R$9:S$13,R17)","v":0},null,null,116,{"$f":"COUNTIF(V$9:W$16,V17)","v":0},"27-30",{"$f":"COUNTIF(X$9:Y$13,X17)","v":0}]
["fordeling",null,null,null,null,null,null,128,0,128,{"$f":"COUNTIF(J$9:K$13,J18)","v":0},null,null,null,0,128,0,128,{"$f":"COUNTIF(R$9:S$13,R18)","v":0},null,null,128,{"$f":"COUNTIF(V$9:W$16,V18)","v":0},"31-34",0]
[null,null,null,null,null,null,null,140,0,140,{"$f":"COUNTIF(J$9:K$13,J19)","v":0},null,null,null,0,140,0,140,{"$f":"COUNTIF(R$9:S$13,R19)","v":0},null,null,140,{"$f":"COUNTIF(V$9:W$16,V19)","v":0},"35-38",0]
[null,null,null,null,null,null,null,152,0,152,{"$f":"COUNTIF(J$9:K$13,J20)","v":0},null,null,null,0,152,0,152,{"$f":"COUNTIF(R$9:S$13,R20)","v":0},null,null,152,{"$f":"COUNTIF(V$9:W$16,V20)","v":0},"39-42",0]
[null,null,null,null,null,null,null,164,0,164,{"$f":"COUNTIF(J$9:K$13,J21)","v":0},null,null,null,0,164,0,164,{"$f":"COUNTIF(R$9:S$13,R21)","v":0},null,null,164,{"$f":"COUNTIF(V$9:W$16,V21)","v":0},"43-46",0]
[null,null,null,"XS",{"$f":"COUNTIF(D$9:E$13,D22)","v":0},"XS",{"$f":"COUNTIF(F$9:G$13,F22)","v":0},null,null,null,null,"XS",{"$f":"COUNTIF(L$9:M$13,L22)","v":0},"XS",0,null,null,null,null,"XS",{"$f":"COUNTIF(T$9:U$16,T22)","v":0},null,null,"47-49",0]
[null,null,null,"S",0,"S",0,null,null,null,null,"S",0,"S",0,null,null,null,null,"S",0]
[null,null,null,"M",0,"M",0,null,null,null,null,"M",0,"M",0,null,null,null,null,"M",0]
[null,null,null,"L",0,"L",0,null,null,null,null,"L",0,"L",0,null,null,null,null,"L",0]
[null,null,null,"XL",0,"XL",0,null,null,null,null,"XL",0,"XL",0,null,null,null,null,"XL",0]
[null,null,null,"XXL",0,"XXL",0,null,null,null,null,"XXL",0,"XXL",0,null,null,null,null,"XXL",0]

{"sheet":"Prisberegner","index":2,"n_rows":42,"n_cols":10,"rows_kept":42,"cut":false,"hidden":false,"merged":[]}
["PRISER (Inkl. FCS klublogo & SPORT 24)"]
["Priser er eksklusiv sponsortryk udover FCS og SPORT 24 logo"]
[]
["MARKSPILLER - VOKSEN","Pris","Antal","Sponsortryk","Total",null,null,"Levering","Udfyld herunder"]
["Spillertrøje, gul - MED NAVN OG NUMMER",285,{"$f":"Spillertøj!E63","v":0},{"$f":"IF($I$13=\"Ja\",(C5 * 20), 0)*I14","v":0},{"$f":"B5*C5+D5","v":0},null,null,"Navn"]
["Spillertrøje, gul - MED NUMMER",225,{"$f":"Spillertøj!G63","v":0},{"$f":"IF($I$13=\"Ja\",(C6 * 20), 0)*I14","v":0},{"$f":"B6*C6+D6","v":0},null,null,"Adresse"]
["Spillershorts, blå, Voksen",185,{"$f":"Spillertøj!M63","v":0},null,0,null,null,"Postnr"]
["UDEBANE Spillertrøje, gul - MED NAVN OG NUMMER",285,{"$f":"Spillertøj!U63","v":0},{"$f":"IF($I$13=\"Ja\",(C8 * 20), 0)*I14","v":0},0,null,null,"By"]
["UDEBANE Spillertrøje, gul - MED NUMMER",225,{"$f":"Spillertøj!W63","v":0},{"$f":"IF($I$13=\"Ja\",(C9 * 20), 0)*I14","v":0},0,null,null,"Hold/årgang"]
[null,null,null,null,null,null,null,"Mobilnummer"]
["MARKSPILLER - BØRN","Pris","Antal",null,"Total",null,null,"Mailadresse"]
["Spillertrøje, gul - MED NAVN OG NUMMER",245,{"$f":"Spillertøj!I63","v":0},{"$f":"IF($I$13=\"Ja\",(C12 * 20), 0)*I14","v":0},{"$f":"B12*C12+D12","v":0}]
["Spillertrøje, gul - MED NUMMER",185,{"$f":"Spillertøj!K63","v":0},{"$f":"IF($I$13=\"Ja\",(C13 * 20), 0)*I14","v":0},{"$f":"B13*C13+D13","v":0},null,null,"Sponsorlogo ønskes","JA","Ja/Nej"]
["Spillershorts, blå Børn",160,{"$f":"Spillertøj!O63","v":0},null,0,null,null,"Antal Sponsor",0,"Vælg antal af sponsor"]
["UDEBANE Spillertrøje, gul - MED NAVN OG NUMMER",285,{"$f":"Spillertøj!Y63","v":0},{"$f":"IF($I$13=\"Ja\",(C15 * 20), 0)*I14","v":0},0]
["UDEBANE Spillertrøje, gul - MED NUMMER",225,{"$f":"Spillertøj!AA63","v":0},{"$f":"IF($I$13=\"Ja\",(C16 * 20), 0)*I14","v":0},0]
[]
["MÅLMAND - VOKSEN","Pris","Antal",null,"Total"]
["Målmandstrøje - kort ærme MED NAVN OG NUMMER",250,{"$f":"Spillertøj!AC63","v":0},{"$f":"IF($I$13=\"Ja\",(C19 * 20), 0)*I14","v":0},{"$f":"B19*C19+D19","v":0}]
["Målmandstrøje - kort ærme MED NUMMER",200,{"$f":"Spillertøj!AE63","v":0},{"$f":"IF($I$13=\"Ja\",(C20 * 20), 0)*I14","v":0},{"$f":"B20*C20+D20","v":0}]
["Målmandstrøje - langærmet MED NAVN OG NUMMER",370,{"$f":"Spillertøj!AK63","v":0},{"$f":"IF($I$13=\"Ja\",(C21 * 20), 0)*I14","v":0},0]
["Målmandstrøje - langærmet MED NUMMER",310,{"$f":"Spillertøj!AM63","v":0},{"$f":"IF($I$13=\"Ja\",(C22 * 20), 0)*I14","v":0},0]
["Baselayer",190,{"$f":"Spillertøj!AS63","v":0},null,{"$f":"C23*B23","v":0}]
["Målmandshorts, Grøn",185,{"$f":"Spillertøj!AW63","v":0},null,{"$f":"B24*C24","v":0},null,null,"Priser på tryk"]
[null,null,null,null,null,null,null,"Opstart sponsorlogo",250]
["MÅLMAND - BØRN","Pris","Antal",null,"Total",null,null,"Tryk pr trøje",20]
["Målmandstrøje - kort ærme MED NAVN OG NUMMER",235,{"$f":"Spillertøj!AG63","v":0},{"$f":"IF($I$13=\"Ja\",(C27 * 20), 0)*I14","v":0},{"$f":"B27*C27","v":0}]
["Målmandstrøje - kort ærme MED NUMMER",185,{"$f":"Spillertøj!AI63","v":0},{"$f":"IF($I$13=\"Ja\",(C28 * 20), 0)*I14","v":0},{"$f":"B28*C28","v":0}]
["Målmandstrøje - langærmet MED NAVN OG NUMMER",335,{"$f":"Spillertøj!AO63","v":0},{"$f":"IF($I$13=\"Ja\",(C29 * 20), 0)*I14","v":0},0]
["Målmandstrøje - langærmet MED NUMMER",275,{"$f":"Spillertøj!AQ63","v":0},{"$f":"IF($I$13=\"Ja\",(C30 * 20), 0)*I14","v":0},0]
["Baselayer",150,{"$f":"Spillertøj!AU63","v":0},null,{"$f":"B31*C31","v":0}]
["Målmandshorts, Grøn",160,{"$f":"Spillertøj!AY63","v":0},null,0]
[]
["Strømper","Pris","Antal",null,"Total"]
["Strømper, blå (Spiller)",67.5,{"$f":"Spillertøj!Q63","v":0},null,{"$f":"B35*C35","v":0}]
["Sleeves, blå (Spiller)",60,{"$f":"Spillertøj!S63","v":0},null,{"$f":"B36*C36","v":0}]
["Strømper, grønne (Målmand)",67.5,{"$f":"Spillertøj!BA63","v":0},null,0]
["Sleeves, grønne (Målmand)",60,{"$f":"Spillertøj!BC63","v":0},null,0]
[]
[null,"Opstart tryk",null,{"$f":"IF($I$13=\"Ja\",(250), 0)","v":250},{"$f":"D40","v":250}]
[]
[null,"Sæt pris i alt inkl moms",null,null,{"$f":"SUM(E5:E40)","v":250}]

{"sheet":"Liste","index":3,"n_rows":6,"n_cols":2,"rows_kept":6,"cut":false,"hidden":false,"merged":[]}
["JA",0]
["NEJ",1]
[null,2]
[null,3]
[null,4]
[null,5]