{"text_format":"1","workbook":"xlsx","n_sheets":3,"sheets":["Klubdragt","Prisberegner","Liste"],"not_rendered":{"charts":0,"images":10,"macros":1,"external_links":0,"defined_names":1,"comments":0,"pivot_tables":0},"unopened":[],"bounds":{"document_bytes":16777216,"sheet_cells":100000,"rows_first":2000,"rows_last":500,"rows_between":2000,"halvings":0,"cell_chars":16384,"cell_head_chars":4096},"cells_cut":0,"cells_raw":0,"read":"whole","date_system":"1900"}

{"sheet":"Klubdragt","index":0,"n_rows":78,"n_cols":30,"rows_kept":78,"cut":false,"hidden":false,"merged":[[59,20,59,21],[59,22,59,23],[59,24,59,25],[59,26,59,27],[59,28,59,29],[58,26,58,27],[59,2,59,3],[59,4,59,5],[59,6,59,7],[59,8,59,9],[59,10,59,11],[59,12,59,13],[59,14,59,15],[59,16,59,17],[59,18,59,19],[58,28,58,29],[58,2,58,3],[58,4,58,5],[58,6,58,7],[58,8,58,9],[58,10,58,11],[58,12,58,13],[58,14,58,15],[58,16,58,17],[58,18,58,19],[57,12,57,13],[57,14,57,15],[57,16,57,17],[57,18,57,19],[57,20,57,21],[57,22,57,23],[57,24,57,25],[57,26,57,27],[57,28,57,29],[55,26,55,27],[55,28,55,29],[54,26,54,27],[56,28,56,29],[56,2,56,3],[56,4,56,5],[56,6,56,7],[56,8,56,9],[56,10,56,11],[56,12,56,13],[56,14,56,15],[56,16,56,17],[56,18,56,19],[56,26,56,27],[65,26,65,27],[65,28,65,29],[66,26,66,27],[66,28,66,29],[54,28,54,29],[54,2,54,3],[54,4,54,5],[54,6,54,7],[54,8,54,9],[54,10,54,11],[54,12,54,13],[54,14,54,15],[54,16,54,17],[54,18,54,19],[55,2,55,3],[55,4,55,5],[55,6,55,7],[55,8,55,9],[55,10,55,11],[55,12,55,13],[55,14,55,15],[55,16,55,17],[55,18,55,19],[55,20,55,21],[60,26,60,27],[60,28,60,29],[61,26,61,27],[61,28,61,29],[62,26,62,27],[62,28,62,29],[63,26,63,27],[63,28,63,29],[64,26,64,27],[64,28,64,29],[2,26,2,27],[2,28,2,29],[3,26,3,27],[3,28,3,29],[6,26,6,27],[6,28,6,29],[7,26,7,27],[7,28,7,29],[8,26,8,27],[8,28,8,29],[61,24,61,25],[62,24,62,25],[63,22,63,23],[63,24,63,25],[64,22,64,23],[64,24,64,25],[65,22,65,23],[65,24,65,25],[66,22,66,23],[66,24,66,25],[2,22,2,23],[2,24,2,25],[3,22,3,23],[3,24,3,25],[6,22,6,23],[6,24,6,25],[7,24,7,25],[8,24,8,25],[60,24,60,25],[54,22,54,23],[54,24,54,25],[56,22,56,23],[56,24,56,25],[58,22,58,23],[58,24,58,25],[42,24,42,25],[44,24,44,25],[46,24,46,25],[48,24,48,25],[50,24,50,25],[52,24,52,25],[17,24,17,25],[55,22,55,23],[55,24,55,25],[64,18,64,19],[64,20,64,21],[66,18,66,19],[66,20,66,21],[65,18,65,19],[65,20,65,21],[60,22,60,23],[61,18,61,19],[61,20,61,21],[61,22,61,23],[62,18,62,19],[62,20,62,21],[62,22,62,23],[7,18,7,19],[7,20,7,21],[7,22,7,23],[8,18,8,19],[8,20,8,21],[8,22,8,23],[54,20,54,21],[56,20,56,21],[58,20,58,21],[42,20,42,21],[42,22,42,23],[44,20,44,21],[44,22,44,23],[46,20,46,21],[46,22,46,23],[48,20,48,21],[48,22,48,23],[50,20,50,21],[50,22,50,23],[52,20,52,21],[52,22,52,23],[17,22,17,23],[19,20,19,21],[44,18,44,19],[64,12,64,13],[64,14,64,15],[64,16,64,17],[2,18,2,19],[2,20,2,21],[3,18,3,19],[3,20,3,21],[6,18,6,19],[2,12,2,13],[2,14,2,15],[2,16,2,17],[3,12,3,13],[3,14,3,15],[3,16,3,17],[6,12,6,13],[6,14,6,15],[6,16,6,17],[62,16,62,17],[63,16,63,17],[63,18,63,19],[63,20,63,21],[62,12,62,13],[62,14,62,15],[63,12,63,13],[63,14,63,15],[60,16,60,17],[61,16,61,17],[60,18,60,19],[60,20,60,21],[60,12,60,13],[60,14,60,15],[61,12,61,13],[61,14,61,15],[7,14,7,15],[7,16,7,17],[8,14,8,15],[8,16,8,17],[7,12,7,13],[8,12,8,13],[6,20,6,21],[64,2,64,3],[64,4,64,5],[64,6,64,7],[64,8,64,9],[64,10,64,11],[63,2,63,3],[63,4,63,5],[63,6,63,7],[63,8,63,9],[63,10,63,11],[61,2,61,3],[61,4,61,5],[61,6,61,7],[61,8,61,9],[61,10,61,11],[62,2,62,3],[62,4,62,5],[62,6,62,7],[62,8,62,9],[62,10,62,11],[8,2,8,3],[8,4,8,5],[8,6,8,7],[8,8,8,9],[8,10,8,11],[60,2,60,3],[60,4,60,5],[60,6,60,7],[60,8,60,9],[60,10,60,11],[39,8,39,9],[39,10,39,11],[40,2,40,3],[40,4,40,5],[40,6,40,7],[40,8,40,9],[57,2,57,3],[57,4,57,5],[57,6,57,7],[57,8,57,9],[57,10,57,11],[17,2,17,3],[6,8,6,9],[6,10,6,11],[7,2,7,3],[7,4,7,5],[7,6,7,7],[7,8,7,9],[7,10,7,11],[2,6,2,7],[2,8,2,9],[2,10,2,11],[3,2,3,3],[3,4,3,5],[3,6,3,7],[3,8,3,9],[3,10,3,11],[17,4,17,5],[17,6,17,7],[17,8,17,9],[17,10,17,11],[39,28,39,29],[0,0,0,1],[1,0,1,1],[2,0,6,0],[2,2,2,3],[2,4,2,5],[6,2,6,3],[6,4,6,5],[6,6,6,7],[39,2,39,3],[39,4,39,5],[39,6,39,7],[9,2,9,3],[9,4,9,5],[9,6,9,7],[11,2,11,3],[11,4,11,5],[11,6,11,7],[13,2,13,3],[13,4,13,5],[13,6,13,7],[15,2,15,3],[15,4,15,5],[15,6,15,7],[40,26,40,27],[39,12,39,13],[39,14,39,15],[39,16,39,17],[39,18,39,19],[39,20,39,21],[39,22,39,23],[39,24,39,25],[39,26,39,27],[42,18,42,19],[40,28,40,29],[41,2,41,3],[41,4,41,5],[41,6,41,7],[41,8,41,9],[41,10,41,11],[41,12,41,13],[41,14,41,15],[41,16,41,17],[41,18,41,19],[41,20,41,21],[41,22,41,23],[41,24,41,25],[41,26,41,27],[41,28,41,29],[40,10,40,11],[40,12,40,13],[40,14,40,15],[40,16,40,17],[40,18,40,19],[40,20,40,21],[40,22,40,23],[40,24,40,25],[42,26,42,27],[42,28,42,29],[43,2,43,3],[43,4,43,5],[43,6,43,7],[43,8,43,9],[43,10,43,11],[43,12,43,13],[43,14,43,15],[43,16,43,17],[43,18,43,19],[43,20,43,21],[43,22,43,23],[43,24,43,25],[43,26,43,27],[43,28,43,29],[42,2,42,3],[42,4,42,5],[42,6,42,7],[42,8,42,9],[42,10,42,11],[42,12,42,13],[42,14,42,15],[42,16,42,17],[44,26,44,27],[44,28,44,29],[45,2,45,3],[45,4,45,5],[45,6,45,7],[45,8,45,9],[45,10,45,11],[45,12,45,13],[45,14,45,15],[45,16,45,17],[45,18,45,19],[45,20,45,21],[45,22,45,23],[45,24,45,25],[45,26,45,27],[45,28,45,29],[44,2,44,3],[44,4,44,5],[44,6,44,7],[44,8,44,9],[44,10,44,11],[44,12,44,13],[44,14,44,15],[44,16,44,17],[46,2,46,3],[46,4,46,5],[46,6,46,7],[46,8,46,9],[46,10,46,11],[46,12,46,13],[46,14,46,15],[46,16,46,17],[46,18,46,19],[47,2,47,3],[47,4,47,5],[47,6,47,7],[47,8,47,9],[47,10,47,11],[47,12,47,13],[47,14,47,15],[47,16,47,17],[47,18,47,19],[48,6,48,7],[48,8,48,9],[48,10,48,11],[48,12,48,13],[48,14,48,15],[48,16,48,17],[48,18,48,19],[46,26,46,27],[46,28,46,29],[47,20,47,21],[47,22,47,23],[47,24,47,25],[47,26,47,27],[47,28,47,29],[50,8,50,9],[50,10,50,11],[50,12,50,13],[50,14,50,15],[50,16,50,17],[50,18,50,19],[48,26,48,27],[48,28,48,29],[49,2,49,3],[49,4,49,5],[49,6,49,7],[49,8,49,9],[49,10,49,11],[49,12,49,13],[49,14,49,15],[49,16,49,17],[49,18,49,19],[49,20,49,21],[49,22,49,23],[49,24,49,25],[49,26,49,27],[49,28,49,29],[48,2,48,3],[48,4,48,5],[52,10,52,11],[52,12,52,13],[52,14,52,15],[52,16,52,17],[52,18,52,19],[50,26,50,27],[50,28,50,29],[51,2,51,3],[51,4,51,5],[51,6,51,7],[51,8,51,9],[51,10,51,11],[51,12,51,13],[51,14,51,15],[51,16,51,17],[51,18,51,19],[51,20,51,21],[51,22,51,23],[51,24,51,25],[51,26,51,27],[51,28,51,29],[50,2,50,3],[50,4,50,5],[50,6,50,7],[9,18,9,19],[9,20,9,21],[9,22,9,23],[9,24,9,25],[52,26,52,27],[52,28,52,29],[53,2,53,3],[53,4,53,5],[53,6,53,7],[53,8,53,9],[53,10,53,11],[53,12,53,13],[53,14,53,15],[53,16,53,17],[53,18,53,19],[53,20,53,21],[53,22,53,23],[53,24,53,25],[53,26,53,27],[53,28,53,29],[52,2,52,3],[52,4,52,5],[52,6,52,7],[52,8,52,9],[11,20,11,21],[11,22,11,23],[11,24,11,25],[9,26,9,27],[9,28,9,29],[10,2,10,3],[10,4,10,5],[10,6,10,7],[10,8,10,9],[10,10,10,11],[10,12,10,13],[10,14,10,15],[10,16,10,17],[10,18,10,19],[10,20,10,21],[10,22,10,23],[10,24,10,25],[10,26,10,27],[10,28,10,29],[9,8,9,9],[9,10,9,11],[9,12,9,13],[9,14,9,15],[9,16,9,17],[13,22,13,23],[13,24,13,25],[11,26,11,27],[11,28,11,29],[12,2,12,3],[12,4,12,5],[12,6,12,7],[12,8,12,9],[12,10,12,11],[12,12,12,13],[12,14,12,15],[12,16,12,17],[12,18,12,19],[12,20,12,21],[12,22,12,23],[12,24,12,25],[12,26,12,27],[12,28,12,29],[11,8,11,9],[11,10,11,11],[11,12,11,13],[11,14,11,15],[11,16,11,17],[11,18,11,19],[15,24,15,25],[13,26,13,27],[13,28,13,29],[14,2,14,3],[14,4,14,5],[14,6,14,7],[14,8,14,9],[14,10,14,11],[14,12,14,13],[14,14,14,15],[14,16,14,17],[14,18,14,19],[14,20,14,21],[14,22,14,23],[14,24,14,25],[14,26,14,27],[14,28,14,29],[13,8,13,9],[13,10,13,11],[13,12,13,13],[13,14,13,15],[13,16,13,17],[13,18,13,19],[13,20,13,21],[15,26,15,27],[15,28,15,29],[16,2,16,3],[16,4,16,5],[16,6,16,7],[16,8,16,9],[16,10,16,11],[16,12,16,13],[16,14,16,15],[16,16,16,17],[16,18,16,19],[16,20,16,21],[16,22,16,23],[16,24,16,25],[16,26,16,27],[16,28,16,29],[15,8,15,9],[15,10,15,11],[15,12,15,13],[15,14,15,15],[15,16,15,17],[15,18,15,19],[15,20,15,21],[15,22,15,23],[18,2,18,3],[18,4,18,5],[18,6,18,7],[18,8,18,9],[18,10,18,11],[18,12,18,13],[18,14,18,15],[18,16,18,17],[18,18,18,19],[19,6,19,7],[19,8,19,9],[19,10,19,11],[19,12,19,13],[19,14,19,15],[19,16,19,17],[19,18,19,19],[17,26,17,27],[17,28,17,29],[18,20,18,21],[18,22,18,23],[18,24,18,25],[18,26,18,27],[18,28,18,29],[17,12,17,13],[17,14,17,15],[17,16,17,17],[17,18,17,19],[17,20,17,21],[21,12,21,13],[21,14,21,15],[21,16,21,17],[21,18,21,19],[19,22,19,23],[19,24,19,25],[19,26,19,27],[19,28,19,29],[20,2,20,3],[20,4,20,5],[20,6,20,7],[20,8,20,9],[20,10,20,11],[20,12,20,13],[20,14,20,15],[20,16,20,17],[20,18,20,19],[20,20,20,21],[20,22,20,23],[20,24,20,25],[20,26,20,27],[20,28,20,29],[19,2,19,3],[19,4,19,5],[21,20,21,21],[21,22,21,23],[21,24,21,25],[21,26,21,27],[21,28,21,29],[22,2,22,3],[22,4,22,5],[22,6,22,7],[22,8,22,9],[22,10,22,11],[22,12,22,13],[22,14,22,15],[22,16,22,17],[22,18,22,19],[22,20,22,21],[22,22,22,23],[22,24,22,25],[22,26,22,27],[22,28,22,29],[21,2,21,3],[21,4,21,5],[21,6,21,7],[21,8,21,9],[21,10,21,11],[23,2,23,3],[23,4,23,5],[23,6,23,7],[23,8,23,9],[23,10,23,11],[23,12,23,13],[23,14,23,15],[23,16,23,17],[23,18,23,19],[25,22,25,23],[25,24,25,25],[25,26,25,27],[25,28,25,29],[24,2,24,3],[24,4,24,5],[24,6,24,7],[24,8,24,9],[24,10,24,11],[24,12,24,13],[24,14,24,15],[24,16,24,17],[24,18,24,19],[23,20,23,21],[23,22,23,23],[23,24,23,25],[23,26,23,27],[23,28,23,29],[24,20,24,21],[24,22,24,23],[24,24,24,25],[24,26,24,27],[24,28,24,29],[26,20,26,21],[26,22,26,23],[26,24,26,25],[26,26,26,27],[26,28,26,29],[25,2,25,3],[25,4,25,5],[25,6,25,7],[25,8,25,9],[25,10,25,11],[26,2,26,3],[26,4,26,5],[26,6,26,7],[26,8,26,9],[26,10,26,11],[26,12,26,13],[26,14,26,15],[26,16,26,17],[26,18,26,19],[25,12,25,13],[25,14,25,15],[25,16,25,17],[25,18,25,19],[25,20,25,21],[27,2,27,3],[27,4,27,5],[27,6,27,7],[27,8,27,9],[27,10,27,11],[27,12,27,13],[27,14,27,15],[27,16,27,17],[27,18,27,19],[29,22,29,23],[29,24,29,25],[29,26,29,27],[29,28,29,29],[28,2,28,3],[28,4,28,5],[28,6,28,7],[28,8,28,9],[28,10,28,11],[28,12,28,13],[28,14,28,15],[28,16,28,17],[28,18,28,19],[27,20,27,21],[27,22,27,23],[27,24,27,25],[27,26,27,27],[27,28,27,29],[28,20,28,21],[28,22,28,23],[28,24,28,25],[28,26,28,27],[28,28,28,29],[30,20,30,21],[30,22,30,23],[30,24,30,25],[30,26,30,27],[30,28,30,29],[29,2,29,3],[29,4,29,5],[29,6,29,7],[29,8,29,9],[29,10,29,11],[30,2,30,3],[30,4,30,5],[30,6,30,7],[30,8,30,9],[30,10,30,11],[30,12,30,13],[30,14,30,15],[30,16,30,17],[30,18,30,19],[29,12,29,13],[29,14,29,15],[29,16,29,17],[29,18,29,19],[29,20,29,21],[31,2,31,3],[31,4,31,5],[31,6,31,7],[31,8,31,9],[31,10,31,11],[31,12,31,13],[31,14,31,15],[31,16,31,17],[31,18,31,19],[33,22,33,23],[33,24,33,25],[33,26,33,27],[33,28,33,29],[32,2,32,3],[32,4,32,5],[32,6,32,7],[32,8,32,9],[32,10,32,11],[32,12,32,13],[32,14,32,15],[32,16,32,17],[32,18,32,19],[31,20,31,21],[31,22,31,23],[31,24,31,25],[31,26,31,27],[31,28,31,29],[32,20,32,21],[32,22,32,23],[32,24,32,25],[32,26,32,27],[32,28,32,29],[34,20,34,21],[34,22,34,23],[34,24,34,25],[34,26,34,27],[34,28,34,29],[33,2,33,3],[33,4,33,5],[33,6,33,7],[33,8,33,9],[33,10,33,11],[34,2,34,3],[34,4,34,5],[34,6,34,7],[34,8,34,9],[34,10,34,11],[34,12,34,13],[34,14,34,15],[34,16,34,17],[34,18,34,19],[33,12,33,13],[33,14,33,15],[33,16,33,17],[33,18,33,19],[33,20,33,21],[35,2,35,3],[35,4,35,5],[35,6,35,7],[35,8,35,9],[35,10,35,11],[35,12,35,13],[35,14,35,15],[35,16,35,17],[35,18,35,19],[37,22,37,23],[37,24,37,25],[37,26,37,27],[37,28,37,29],[36,2,36,3],[36,4,36,5],[36,6,36,7],[36,8,36,9],[36,10,36,11],[36,12,36,13],[36,14,36,15],[36,16,36,17],[36,18,36,19],[35,20,35,21],[35,22,35,23],[35,24,35,25],[35,26,35,27],[35,28,35,29],[36,20,36,21],[36,22,36,23],[36,24,36,25],[36,26,36,27],[36,28,36,29],[38,20,38,21],[38,22,38,23],[38,24,38,25],[38,26,38,27],[38,28,38,29],[37,2,37,3],[37,4,37,5],[37,6,37,7],[37,8,37,9],[37,10,37,11],[38,2,38,3],[38,4,38,5],[38,6,38,7],[38,8,38,9],[38,10,38,11],[38,12,38,13],[38,14,38,15],[38,16,38,17],[38,18,38,19],[37,12,37,13],[37,14,37,15],[37,16,37,17],[37,18,37,19],[37,20,37,21]]}
[]
[]
["Skriv det navn som skal trykkes på trøjen ",null,"KLUBDRAGT - MED NAVN",null,"KLUBDRAGT  - UDEN NAVN",null,"KLUBDRAGT  - MED NAVN",null,"KLUBDRAGT - UDEN NAVN",null,"BUKSER - MED NAVN",null,"BUKSER - UDEN NAVN",null,"BUKSER - MED NAVN",null,"BUKSER - UDEN NAVN",null,"TRÆNINGSTEE  1 - MED NAVN",null,"TRÆNINGSTEE  1 - MED NAVN",null,"TRÆNINGSTEE  2 - MED NAVN",null,"TRÆNINGSTEE  2 - MED NAVN",null,"All Weather Jakke ",null,"All Weather Jakke "]
[null,"Vælg farve","BLÅ - 02",null,"BLÅ - 02",null,"BLÅ - 02",null,"BLÅ - 02",null,"SORT - 03",null,"SORT - 03",null,"SORT - 03",null,"SORT - 03",null,"BLÅ - 02",null,"BLÅ - 02",null,"BLÅ - 02",null,"BLÅ - 02",null,"BLÅ - 02",null,"BLÅ - 02"]
[null,"Voksen",658629,350,658629,325,null,null,null,null,659037,350,659037,325,null,null,null,null,706280,225,null,null,658636,215,null,null,659038,385]
[null,"Børn",null,null,null,null,658632,310,658632,285,null,null,null,null,659046,310,659046,290,null,null,706282,220,null,null,658637,200,null,null,629045,350]
[null,null,"VOKSEN",null,"VOKSEN",null,"BARN",null,"BARN",null,"VOKSEN",null,"VOKSEN",null,"BARN",null,"BARN",null,"VOKSEN",null,"BARN",null,"VOKSEN",null,"BARN",null,"VOKSEN",null,"BARN"]
["NAVNETRYK - 4 CM",null,"(XS,S,M,L,XL,XL,XXL)",null,"(XS,S,M,L,XL,XL,XXL)",null,"(116,128,140,152,164)",null,"(116,128,140,152,164)",null,"(XS,S,M,L,XL,XL,XXL)",null,"(XS,S,M,L,XL,XL,XXL)",null,"(116,128,140,152,164)",null,"(116,128,140,152,164)",null,"(XS,S,M,L,XL,XL,XXL)",null,"(116,128,140,152,164)",null,"(XS,S,M,L,XL,XL,XXL)",null,"(116,128,140,152,164)",null,"(XS,S,M,L,XL,XL,XXL)",null,"(116,128,140,152,164)"]
[]
[]
[]
[]
[]
[]
[]
[]
[]
[]
[]
[]
[]
[]
[]
[]
[]
[]
[]
[]
[]
[]
[]
[]
[]
[]
[]
[]
[]
[]
[]
[]
[]
[]
[]
[]
[]
[]
[]
[]
[]
[]
[]
[]
[]
[]
[]
[]
[]
[]
[]
[]
[]
[]
[]
[]
[{"$f":"COUNTA(A9:A64)","v":0},null,{"$f":"COUNTA(C9:D64)","v":0},null,{"$f":"COUNTA(E9:F64)","v":0},null,{"$f":"COUNTA(G9:H64)","v":0},null,{"$f":"COUNTA(I9:J64)","v":0},null,{"$f":"COUNTA(K9:L64)","v":0},null,{"$f":"COUNTA(M9:N64)","v":0},null,{"$f":"COUNTA(O9:P64)","v":0},null,{"$f":"COUNTA(Q9:R64)","v":0},null,{"$f":"COUNTA(S9:T64)","v":0},null,{"$f":"COUNTA(U9:V64)","v":0},null,{"$f":"COUNTA(W9:X64)","v":0},null,{"$f":"COUNTA(Y9:Z64)","v":0},null,{"$f":"COUNTA(AA9:AB64)","v":0},null,{"$f":"COUNTA(AC9:AD64)","v":0}]
[]
[]
["Størrelses-",null,null,null,null,null,116,{"$f":"COUNTIF(G$9:H$64,G68)","v":0},116,{"$f":"COUNTIF(I$9:J$64,I68)","v":0},null,null,null,{"$f":"COUNTIF(M$9:N$64,M68)","v":0},116,{"$f":"COUNTIF(O$9:P$64,O68)","v":0},116,{"$f":"COUNTIF(Q$9:R$64,Q68)","v":0},null,null,116,{"$f":"COUNTIF(U$9:V$67,U68)","v":0},null,null,116,{"$f":"COUNTIF(Y$9:Z$67,Y68)","v":0},null,null,116,{"$f":"COUNTIF(AC$9:AD$67,AC68)","v":0}]
["fordeling",null,null,null,null,null,128,{"$f":"COUNTIF(G$9:H$64,G69)","v":0},128,{"$f":"COUNTIF(I$9:J$64,I69)","v":0},null,null,null,0,128,{"$f":"COUNTIF(O$9:P$64,O69)","v":0},128,{"$f":"COUNTIF(Q$9:R$64,Q69)","v":0},null,null,128,{"$f":"COUNTIF(U$9:V$67,U69)","v":0},null,null,128,{"$f":"COUNTIF(Y$9:Z$67,Y69)","v":0},null,null,128,{"$f":"COUNTIF(AC$9:AD$67,AC69)","v":0}]
[null,null,null,null,null,null,140,{"$f":"COUNTIF(G$9:H$64,G70)","v":0},140,{"$f":"COUNTIF(I$9:J$64,I70)","v":0},null,null,null,0,140,{"$f":"COUNTIF(O$9:P$64,O70)","v":0},140,{"$f":"COUNTIF(Q$9:R$64,Q70)","v":0},null,null,140,{"$f":"COUNTIF(U$9:V$67,U70)","v":0},null,null,140,{"$f":"COUNTIF(Y$9:Z$67,Y70)","v":0},null,null,140,{"$f":"COUNTIF(AC$9:AD$67,AC70)","v":0}]
[null,null,null,null,null,null,152,{"$f":"COUNTIF(G$9:H$64,G71)","v":0},152,{"$f":"COUNTIF(I$9:J$64,I71)","v":0},null,null,null,0,152,{"$f":"COUNTIF(O$9:P$64,O71)","v":0},152,{"$f":"COUNTIF(Q$9:R$64,Q71)","v":0},null,null,152,{"$f":"COUNTIF(U$9:V$67,U71)","v":0},null,null,152,{"$f":"COUNTIF(Y$9:Z$67,Y71)","v":0},null,null,152,{"$f":"COUNTIF(AC$9:AD$67,AC71)","v":0}]
[null,null,null,null,null,null,164,{"$f":"COUNTIF(G$9:H$64,G72)","v":0},164,{"$f":"COUNTIF(I$9:J$64,I72)","v":0},null,null,null,0,164,{"$f":"COUNTIF(O$9:P$64,O72)","v":0},164,{"$f":"COUNTIF(Q$9:R$64,Q72)","v":0},null,null,164,{"$f":"COUNTIF(U$9:V$67,U72)","v":0},null,null,164,{"$f":"COUNTIF(Y$9:Z$67,Y72)","v":0},null,null,164,{"$f":"COUNTIF(AC$9:AD$67,AC72)","v":0}]
[null,null,"XS",{"$f":"COUNTIF(C$9:D$64,C73)","v":0},"XS",{"$f":"COUNTIF(E$9:F$64,E73)","v":0},null,null,null,null,"XS",{"$f":"COUNTIF(K$9:L$64,K73)","v":0},"XS",0,null,null,null,null,"XS",{"$f":"COUNTIF(S$9:T$67,S73)","v":0},null,null,"XS",{"$f":"COUNTIF(W$9:X$67,W73)","v":0},null,null,"XS",{"$f":"COUNTIF(AA$9:AB$67,AA73)","v":0}]
[null,null,"S",0,"S",0,null,null,null,null,"S",0,"S",0,null,null,null,null,"S",0,null,null,"S",0,null,null,"S",0]
[null,null,"M",0,"M",0,null,null,null,null,"M",0,"M",0,null,null,null,null,"M",0,null,null,"M",0,null,null,"M",0]
[null,null,"L",0,"L",0,null,null,null,null,"L",0,"L",0,null,null,null,null,"L",0,null,null,"L",0,null,null,"L",0]
[null,null,"XL",0,"XL",0,null,null,null,null,"XL",0,"XL",0,null,null,null,null,"XL",0,null,null,"XL",0,null,null,"XL",0]
[null,null,"XXL",0,"XXL",0,null,null,null,null,"XXL",0,"XXL",0,null,null,null,null,"XXL",0,null,null,"XXL",0,null,null,"XXL",0]

{"sheet":"Prisberegner","index":1,"n_rows":25,"n_cols":10,"rows_kept":25,"cut":false,"hidden":false,"merged":[]}
["PRISER (Inkl. FCS klublogo & SPORT 24)"]
["Priser er eksklusiv sponsortryk udover FCS og SPORT 24 logo"]
[]
["KLUBDRAGT - VOKSEN","Pris","Antal","Sponsortryk","Total",null,null,"Levering","Udfyld gule felter"]
["Overdel - med navn",350,{"$f":"Klubdragt!C65","v":0},{"$f":"IF($I$13=\"Ja\",(C5 * 20), 0)*I14","v":0},{"$f":"B5*C5","v":0},null,null,"Navn"]
["Overdel - uden navn",325,{"$f":"Klubdragt!E65","v":0},{"$f":"IF($I$13=\"Ja\",(C6 * 20), 0)*I14","v":0},{"$f":"B6*C6","v":0},null,null,"Adresse"]
["Bukser - med navn",350,{"$f":"Klubdragt!K65","v":0},null,0,null,null,"Postnr"]
["Bukser - uden navn",325,{"$f":"Klubdragt!M65","v":0},null,0,null,null,"By"]
["Træningstee 1",225,{"$f":"Klubdragt!S65","v":0},{"$f":"IF($I$13=\"Ja\",(C9 * 20), 0)*I14","v":0},0,null,null,"Hold/årgang"]
["Træningstee 2",215,{"$f":"Klubdragt!W65","v":0},{"$f":"IF($I$13=\"Ja\",(C10 * 20), 0)*I14","v":0},0,null,null,"Mobilnummer"]
["All Wheather jakke",385,{"$f":"Klubdragt!AA65","v":0},null,0,null,null,"Mailadresse"]
[]
["KLUBDRAGT - BØRN","Pris","Antal",null,"Total",null,null,"Sponsorlogo ønskes","JA","Ja/Nej"]
["Overdel - med navn",310,{"$f":"Klubdragt!G65","v":0},{"$f":"IF($I$13=\"Ja\",(C14 * 20), 0)*I14","v":0},{"$f":"B14*C14","v":0},null,null,"Antal Sponsor",1,"Vælg antal af sponsor"]
["Overdel - uden navn",285,{"$f":"Klubdragt!I65","v":0},{"$f":"IF($I$13=\"Ja\",(C15 * 20), 0)*I14","v":0},0]
["Bukser - med navn",310,{"$f":"Klubdragt!O65","v":0},null,0]
["Bukser - uden navn",290,{"$f":"Klubdragt!Q65","v":0},null,0]
["Træningstee 1",220,{"$f":"Klubdragt!U65","v":0},{"$f":"IF($I$13=\"Ja\",(C18 * 20), 0)*I14","v":0},0]
["Træningstee 2",200,{"$f":"Klubdragt!Y65","v":0},{"$f":"IF($I$13=\"Ja\",(C19 * 20), 0)*I14","v":0},0]
["All Wheather jakke",350,{"$f":"Klubdragt!AC65","v":0},null,0]
[]
[null,"Opstart tryk",null,{"$f":"IF($I$13=\"Ja\",(250), 0)","v":250},{"$f":"D22","v":250}]
[null,null,null,null,null,null,null,"Priser på tryk"]
[null,"Sæt pris i alt inkl moms",null,null,{"$f":"SUM(E5:E22)","v":250},null,null,"Opstart sponsorlogo",250]
[null,null,null,null,null,null,null,"Tryk pr trøje",20]

{"sheet":"Liste","index":2,"n_rows":6,"n_cols":2,"rows_kept":6,"cut":false,"hidden":false,"merged":[]}
["JA",0]
["NEJ",1]
[null,2]
[null,3]
[null,4]
[null,5]